BEGIN:VCALENDAR
PRODID:-//dvv-bw.de//dvv.Portalplattform//DE
VERSION:2.0
METHOD:PUBLISH
BEGIN:VEVENT
DTSTART:20260729T160000Z
DTEND:20260729T180000Z
DTSTAMP:20260421T082808Z
UID:523253442207-523253336729-1785276000000
SUMMARY:Sportabzeichenabnahme Geräteturnen
LOCATION:Gustav-Siegle-Halle Besigheim
DESCRIPTION:Sportabzeichenabnahme Geräteturnen
CLASS:PUBLIC
X-ALT-DESC;FMTTYPE=text/html:Sportabzeichenabnahme Geräteturnen
END:VEVENT
END:VCALENDAR
